Uber Exif Photo
Software : Adobe Photoshop Lightroom Classic 12.3 (Windows)
Modify Date : 2024:02:12 08:51:15
Color Space : sRGB
Profile Description : sRGB IEC61966-2.1
Preserved File Name : Yashica T4 kent@800 - 132.tif
Format : image/jpeg
Creator Tool : Adobe Photoshop Lightroom Classic 12.3 (Windows)
Raw File Name : Yashica T4 kent@800 - 132.tif
Version : 15.3
Compatible Version : 251658240
Process Version : 11.0
Exposure 2012 : 0.00
Contrast 2012 : 0
Highlights 2012 : 0
Shadows 2012 : 0
Whites 2012 : +44
Blacks 2012 : -5
Texture : 0
Clarity 2012 : 0
Dehaze : 0
Parametric Shadows : 0
Parametric Darks : 0
Parametric Lights : 0
Parametric Highlights : 0
Parametric Shadow Split : 25
Parametric Midtone Split : 50
Parametric Highlight Split : 75
Sharpness : 37
Sharpen Radius : +1.0
Sharpen Detail : 25
Sharpen Edge Masking : 0
Luminance Smoothing : 0
Split Toning Shadow Hue : 0
Split Toning Shadow Saturation : 0
Split Toning Highlight Hue : 0
Split Toning Highlight Saturation : 0
Split Toning Balance : 0
Color Grade Midtone Hue : 0
Color Grade Midtone Sat : 0
Color Grade Shadow Lum : 0
Color Grade Midtone Lum : 0
Color Grade Highlight Lum : 0
Color Grade Blending : 50
Color Grade Global Hue : 0
Color Grade Global Sat : 0
Color Grade Global Lum : 0
Lens Profile Enable : 0
Lens Manual Distortion Amount : 0
Vignette Amount : 0
Perspective Upright : Off
Perspective Vertical : 0
Perspective Horizontal : 0
Perspective Rotate : 0.0
Perspective Aspect : 0
Perspective Scale : 100
Perspective X : 0.00
Perspective Y : 0.00
Grain Amount : 0
Post Crop Vignette Amount : 0
Override Look Vignette : False
Tone Curve Name 2012 : Linear
Has Settings : True
Crop Top : 0.04179
Crop Left : 0
Crop Bottom : 0.982442
Crop Right : 1
Crop Angle : -1.61928
Crop Constrain To Warp : 0
Has Crop : True
Already Applied : True
Tone Curve PV2012 : 0, 0, 255, 255
Tone Curve PV2012 Red : 0, 0, 255, 255
Tone Curve PV2012 Green : 0, 0, 255, 255
Tone Curve PV2012 Blue : 0, 0, 255, 255
Image Width : 259
Image Height : 400
Bits Per Sample : 8
Color Components : 3
Image Size : 259x400
Megapixels : 0.104
Modify Date : 2024:02:12 08:51:15-05:00